BEGIN:VCALENDAR
VERSION:2.0
PRODID:-//Hijas de Jesús España-Italia - ECPv6.11.2.1//NONSGML v1.0//EN
CALSCALE:GREGORIAN
METHOD:PUBLISH
X-ORIGINAL-URL:https://hijasdejesus.es
X-WR-CALDESC:Eventos para Hijas de Jesús España-Italia
REFRESH-INTERVAL;VALUE=DURATION:PT1H
X-Robots-Tag:noindex
X-PUBLISHED-TTL:PT1H
BEGIN:VTIMEZONE
TZID:Europe/Helsinki
BEGIN:DAYLIGHT
TZOFFSETFROM:+0200
TZOFFSETTO:+0300
TZNAME:EEST
DTSTART:20240331T010000
END:DAYLIGHT
BEGIN:STANDARD
TZOFFSETFROM:+0300
TZOFFSETTO:+0200
TZNAME:EET
DTSTART:20241027T010000
END:STANDARD
END:VTIMEZONE
BEGIN:VEVENT
DTSTART;TZID=Europe/Helsinki:20240427T120000
DTEND;TZID=Europe/Helsinki:20240427T150000
DTSTAMP:20260424T114711
CREATED:20240417T170502Z
LAST-MODIFIED:20240417T193653Z
UID:8829-1714219200-1714230000@hijasdejesus.es
SUMMARY:II ENCUENTRO INTERNACIONAL DE EDUCADORES
DESCRIPTION:
URL:https://hijasdejesus.es/event/ii-encuentro-internacional-de-educadores-2/
CATEGORIES:EDUCADORES
ATTACH;FMTTYPE=image/png:https://hijasdejesus.es/wp-content/uploads/2024/02/GLOBALCOMPACTonEDUCATION_LogoTransparent.png
END:VEVENT
END:VCALENDAR